BEGIN:VCALENDAR
VERSION:2.0
PRODID:-//Osservatore Pastafariano - ECPv6.15.4//NONSGML v1.0//EN
CALSCALE:GREGORIAN
METHOD:PUBLISH
X-WR-CALNAME:Osservatore Pastafariano
X-ORIGINAL-URL:https://osservatore.pastafariano.org
X-WR-CALDESC:Eventi per Osservatore Pastafariano
REFRESH-INTERVAL;VALUE=DURATION:PT1H
X-Robots-Tag:noindex
X-PUBLISHED-TTL:PT1H
BEGIN:VTIMEZONE
TZID:Europe/Rome
BEGIN:DAYLIGHT
TZOFFSETFROM:+0100
TZOFFSETTO:+0200
TZNAME:CEST
DTSTART:20210328T010000
END:DAYLIGHT
BEGIN:STANDARD
TZOFFSETFROM:+0200
TZOFFSETTO:+0100
TZNAME:CET
DTSTART:20211031T010000
END:STANDARD
END:VTIMEZONE
BEGIN:VEVENT
DTSTART;TZID=Europe/Rome:20210213T203000
DTEND;TZID=Europe/Rome:20210213T230000
DTSTAMP:20260425T043008
CREATED:20210202T143222Z
LAST-MODIFIED:20230412T073450Z
UID:7786-1613248200-1613257200@osservatore.pastafariano.org
SUMMARY:Cena Pastafariana Mondiale 2021
DESCRIPTION:Come ogni anno ricordiamo il nostro primo Pappa Al Zarkawi I con una cena in diretta\, in questo 2021 ancora più significativa\, proprio perché da mesi ci mancano occasioni di incontro e preghiera comune. \nLa Cena Mondiale è anche un’importante occasione per riflettere sulla nostra navigazione.\nQuest’anno la riflessione comune ha una particolare rilevanza: il Direttivo presenterà infatti la proposta di Manifesto e il Nuovo Statuto dell’APS “Ciurma Pastafariana” che sarano messi ai voti nei mesi a venire. \nLe ciurme locali e i pendagli da forchetta da tutto il Pianeta sono invitatə a partecipare\, per ricordare il nostro Pappa\, parlare del nostro futuro e trascorrere assieme una serata prodigiosa! \nPER GUARDARE LA CENA PASTAFARIANA MONDIALE\n \nPER PARTECIPARE ALLA CENA PASTAFARIANA MONDIALE\nContattaci attraverso il modulo qui sotto \nContatta il Concistoro della Chiesa Pastafariana Italiana\n\n  \n\n\n\n Il tuo nome (richiesto)\n \n \n La tua email (richiesto)\n \n \n Oggetto\n \n \n Il tuo messaggio\n \n \n\n	Accetto la privacy policy(obbligatorio)\n	 \n\n\n Δ \n\n\n\n\n 
URL:https://osservatore.pastafariano.org/arrembaggio/cena-pastafariana-mondiale-2021/
LOCATION:YouTube
CATEGORIES:eventi pastafariani di rilevanza nazionale
ATTACH;FMTTYPE=image/png:https://osservatore.pastafariano.org/ahrr/wp-content/uploads/2021/02/Cena-Pastafariana-Mondiale-2021-copertina-YT.png
ORGANIZER;CN="Chiesa Pastafariana Italiana":MAILTO:info@chiesapastafariana.it
END:VEVENT
END:VCALENDAR