BEGIN:VCALENDAR
VERSION:2.0
PRODID:-//Osservatore Pastafariano - ECPv6.15.4//NONSGML v1.0//EN
CALSCALE:GREGORIAN
METHOD:PUBLISH
X-WR-CALNAME:Osservatore Pastafariano
X-ORIGINAL-URL:https://osservatore.pastafariano.org
X-WR-CALDESC:Eventi per Osservatore Pastafariano
REFRESH-INTERVAL;VALUE=DURATION:PT1H
X-Robots-Tag:noindex
X-PUBLISHED-TTL:PT1H
BEGIN:VTIMEZONE
TZID:Europe/Rome
BEGIN:DAYLIGHT
TZOFFSETFROM:+0100
TZOFFSETTO:+0200
TZNAME:CEST
DTSTART:20250330T010000
END:DAYLIGHT
BEGIN:STANDARD
TZOFFSETFROM:+0200
TZOFFSETTO:+0100
TZNAME:CET
DTSTART:20251026T010000
END:STANDARD
END:VTIMEZONE
BEGIN:VEVENT
DTSTART;TZID=Europe/Rome:20251107T150000
DTEND;TZID=Europe/Rome:20251109T140000
DTSTAMP:20260419T151948
CREATED:20251013T114124Z
LAST-MODIFIED:20251013T120047Z
UID:12481-1762527600-1762696800@osservatore.pastafariano.org
SUMMARY:AglioVin 2025
DESCRIPTION:RAmen confrittellə e Pastacuriosə\,possa il Prodigioso ungervi con le sue pappardellose appendici.Dice il Libro Sacro del PSV che\, all’arrivo di Novembre\, in tutto il mondo tantissimə si vestono da pirata e regalano caramelle\, ma che pochi conoscono l’origine di questa usanza.Tutti però sanno che\, regolarmente\, la temperatura nelle settimane successive\, cala notevolmente.Questa verità è la riprova della correlazione scientifica tra il numero dei pirati e il global warming!E\, ovviamente\, la festa di AglioVin\, per usare il nome originale poi corrotto in inglese\, è fondamentale per tutti i pastafariani.Chiamiamo tutto l’equipaggio in coperta! Tutti ai posti di manovra!La Ciurma Pastafariana e la Chiesa Pastafariana Italiana organizzano dal venerdì sera alla domenica mattina del weekend dell’otto novembre il fantastico Agliovin 2025\, presso il Mare e Vita Village\, Viale Italia\, 126\, 48015 Cervia RA.Vuoi mettere le mani in pasta?Vuoi saperne di più sulla Chiesa più figa in commercio?Vuoi conoscere altri Confrittelli?Vuoi toccare\, parlare con\, o magari\, annusare un vero Ministro di Culto\, un Alto Pelato\, uno Scardinale o addirittura Sua Magnificenza Pastefice Paolo l’Apostrofo\, detto Malmostoso Primo?Vuoi conoscere tutti i segreti e i retroscena del Pastafarianesimo Italiano?Vuoi conoscere la Ciurma Pastafariana\, la sua storia\, le sue battaglie e i piratə che la compongono?Vuoi startene in panciolle respirando l’aria salmastra della risacca\, bevendo e mangiando in buona compagnia?Vuoi dare\, se ti va\, una mano a preparare i lauti banchetti e a far funzionare la Cambusa?Vuoi contribuire al raffreddamento di questo\, per troppi motivi purtroppo\, surriscaldato mondo?Sgancia un piccolissimo pugnetto di dobloni e unisciti aə piratə pastafarianə!Vivremo\, in totale autogestione\, due giorni di pace\, amore e musica (ma forse questa l’han già usata…) tra buon cibo\, buone bevande\, buona convivialità\, buoni momenti di conoscenza\, buono svacco\, buone vibrazioni\, buoni incontri\, buon relax\, buona pace e buon quel che volete\, alla faccia di chi ci accusa di essere “buonisti”!Clicca qui per conoscere\, sempre che\, in onore al Prodigioso\, non si sia troppo alticci\, quel che abbiamo imbandito per Agliovin e\, se ti va\, prenotati per un piratesco\, enorme\, colossale\, immane\, ciclopico\, smisurato\, immenso\, mastodontico\, titanico\, gargantuesco\, sesquipedale\, ultra figo meeting Pastafariano veleggiando fino a qui.https://forms.gle/EiQvSEt2PGnWoCwT8Il Concistoro e la Ciurma Pastafariana \n 
URL:https://osservatore.pastafariano.org/arrembaggio/agliovin-2025/
LOCATION:Mare e Vita Village\, Viale Italia 126\, Pinarella di Cervia\, Italy
CATEGORIES:eventi pastafariani di rilevanza nazionale,eventi pastafariani Emilia-Romagna
ATTACH;FMTTYPE=image/jpeg:https://osservatore.pastafariano.org/ahrr/wp-content/uploads/2025/10/aglioVin.jpg
END:VEVENT
BEGIN:VEVENT
DTSTART;TZID=Europe/Rome:20251109T120000
DTEND;TZID=Europe/Rome:20251109T170000
DTSTAMP:20260419T151948
CREATED:20251105T103406Z
LAST-MODIFIED:20251105T103712Z
UID:12503-1762689600-1762707600@osservatore.pastafariano.org
SUMMARY:Pranzo sociale
DESCRIPTION:🏴‍☠️🍾M E S S A G E   I N   A   B O T T L E🍾🏴‍☠️ \nCarə Confrittellə\, Piratə\, Pastacuriosə del globo terracqueo\nè con gaudium magnum che la Chiesa Pastafariana Italiana invita i pastafariani dentro e fuori a riunirsi in un pranzo sociale domenica nove novembre 2025 a Milano Marittima. Chi desiderasse unirsi alla ciurma nobilmente riunita ci contatti con un messaggio privato per ricevere con un pappagallo viaggiatore informazioni dettagliate…e non dimenticate l’alta uniforme.\nHasta la Pasta Siempre!\nR A M E N \n#messageinabottle #pranzosociale #pappagalloviaggiatore #spaghetti #ramen #arrr #chiesapastafarianaitaliana #pirateking #prodigiosospaghettovolante #cpi #flyingspaghettimonster #pastafarianesimo #romanpolanski #pirates #piratesdirectedbyromanpolanski #pastafarianisme #fsm #pastafarianism #thefsmchurch #librosacrodelprodigiosospaghettovolante #bobbyhenderson #tegliologia #religione #lgbtqia+ #religion #thegospeloftheflyingspaghettimonster \n  \nVeleggia fino ai link ai post sui social: Facebook \, Instagram \, TikTok
URL:https://osservatore.pastafariano.org/arrembaggio/12503/
LOCATION:Hotel Ambra\, Viale Luigi Cadorna\, 14\, 48015\, Milano Marittima RA\, Italy
CATEGORIES:eventi pastafariani Emilia-Romagna
ATTACH;FMTTYPE=image/jpeg:https://osservatore.pastafariano.org/ahrr/wp-content/uploads/2025/11/WhatsApp-Image-2025-11-04-at-21.01.49.jpeg
END:VEVENT
BEGIN:VEVENT
DTSTART;TZID=Europe/Rome:20251114T200000
DTEND;TZID=Europe/Rome:20251114T200000
DTSTAMP:20260419T151948
CREATED:20251101T144342Z
LAST-MODIFIED:20251101T144924Z
UID:12495-1763150400-1763150400@osservatore.pastafariano.org
SUMMARY:Prima Teglia di Preghiera della Pannocchia Pastafariana Padovana dei Bigoli co’ l’Arna
DESCRIPTION:Carə Confrittellə e Pastacuriosə\,\nsono Capitan Macafame\, Parrocchetto della Pannocchia Pastafariana di Padova dei Bigoli co’ l’Arna. \nCon gioia vi annuncio che venerdì 14 novembre si terrà la nostra prima Teglia di Preghiera presso il locale Fabbrica in Pedavena Padova\, in via dei Colli 164\, Padova. \n\nPerché ci incontriamo\nLa Pannocchia di Padova\, come tutte le Pannocchie Pastafariane\, nasce come porto sicuro e luogo di incontro per tutti\, credenti e non-credenti\, curiosi\, amanti della Pasta e dei Carboidrati Complessi.\nLa nostra missione è quella di diffondere i valori del Pastafarianesimo — libertà\, inclusione\, pensiero critico\, umorismo— servendo il Prodigioso Spaghetto Volante\, e chiedendo (con leggerezza\, ma anche con serietà) che il Pastafarianesimo venga considerato e rispettato come le altre religioni. \n\nIl significato della Teglia di Preghiera\nLa Teglia di Preghiera è uno dei momenti più autentici della nostra vita comunitaria. Non è una riunione formale\, ma un incontro conviviale\, di scambio\, di riflessione — gastronomico e spirituale. \nLa Teglia è il simbolo del contenitore della comunità: accoglie ingredienti diversi (persone\, pensieri\, risate)\, per farli cuocere insieme\, armoniosamente\, fino a diventare un piatto unico e gustoso. \nLa Teglia è appunto un’occasione di preghiera: nel nostro caso\, non è un elenco di parole ripetute\, ma un atto di consapevolezza e libertà: come ci insegnano i Condimenti Pastafariani\, l’illuminazione e la fede si esprimono meglio a stomaco pieno\, con un bicchiere in mano\, magari con un sorriso: sono nutrimento reciproco\, sia per l’anima che per la pancia. \n\nCosa succede in una Teglia di Preghiera\nCi rilasseremo\, mangeremo\, berremo\, rideremo… ma soprattutto: \n\ncelebreremo la comunità e parleremo del Verbo del Prodigioso\nscambieremo idee e proposte nel segno della nostra azione sociale: sostegno reciproco\, promozione dei diritti civili\, tolleranza e separazione tra Stato e religione.\n\nOgni Teglia di Preghiera è diversa\, ma l’essenza è sempre la stessa: serietà senza seriosità\, spiritualità con appetito\, libertà con responsabilità. \n\nDove ci incontriamo: Fabbrica in Pedavena Padova\nIl nostro incontro si terrà presso la birreria-ristorante Fabbrica in Pedavena a Padova.\nÈ un ambiente accogliente e informale\, perfetto per chiacchierare\, confrontarsi e cenare con un buon bicchiere di Sacra Bevanda (e di altro\, per chi lo desidera). L’atmosfera informale ma curata rispecchia perfettamente lo spirito della Pannocchia: vogliamo essere seri\, ma non seriosi; accoglierci\, ridere\, riflettere\, stare insieme. \n\nPer chi è questo incontro\n\nPer tuttə ə membrə della Pannocchia che desiderano ritrovarsi.\nPer chi è curiosə del Pastafarianesimo e vuole saperne di più.\nPer chi crede nella scienza\, nella ragione\, nella satira come strumenti di crescita.\nPer chi sostiene la parità di diritti\, la tolleranza\, la separazione tra Stato e Chiesa.\nPer chi vuole un luogo dove la spiritualità sia gioia\, condivisione e buon cibo.\n\n  \nMa… e quindi? \nE quindi: conferma la tua presenza: \n\nscrivendo una mail a padova@chiesapastafariana.it\nmandandomi un messaggio Telegram (https://t.me/cpt_macafame)\ncontattandomi su Facebook: https://www.facebook.com/capitan.macafame/\n\n  \nR’amen!
URL:https://osservatore.pastafariano.org/arrembaggio/prima-teglia-di-preghiera-della-pannocchia-pastafariana-padovana-dei-bigoli-co-larna/
LOCATION:Fabbrica in Pedavena\, Padova\, Via dei Colli\, 164\, Padova\, Italy
CATEGORIES:eventi pastafariani Veneto
ATTACH;FMTTYPE=image/png:https://osservatore.pastafariano.org/ahrr/wp-content/uploads/2025/11/logo-Pannocchia-16_9-1.png
END:VEVENT
END:VCALENDAR