BEGIN:VCALENDAR
VERSION:2.0
PRODID:-//Osservatore Pastafariano - ECPv6.15.4//NONSGML v1.0//EN
CALSCALE:GREGORIAN
METHOD:PUBLISH
X-ORIGINAL-URL:https://osservatore.pastafariano.org
X-WR-CALDESC:Eventi per Osservatore Pastafariano
REFRESH-INTERVAL;VALUE=DURATION:PT1H
X-Robots-Tag:noindex
X-PUBLISHED-TTL:PT1H
BEGIN:VTIMEZONE
TZID:Europe/Rome
BEGIN:DAYLIGHT
TZOFFSETFROM:+0100
TZOFFSETTO:+0200
TZNAME:CEST
DTSTART:20250330T010000
END:DAYLIGHT
BEGIN:STANDARD
TZOFFSETFROM:+0200
TZOFFSETTO:+0100
TZNAME:CET
DTSTART:20251026T010000
END:STANDARD
END:VTIMEZONE
BEGIN:VEVENT
DTSTART;TZID=Europe/Rome:20251109T120000
DTEND;TZID=Europe/Rome:20251109T170000
DTSTAMP:20260425T044557
CREATED:20251105T103406Z
LAST-MODIFIED:20251105T103712Z
UID:12503-1762689600-1762707600@osservatore.pastafariano.org
SUMMARY:Pranzo sociale
DESCRIPTION:🏴‍☠️🍾M E S S A G E   I N   A   B O T T L E🍾🏴‍☠️ \nCarə Confrittellə\, Piratə\, Pastacuriosə del globo terracqueo\nè con gaudium magnum che la Chiesa Pastafariana Italiana invita i pastafariani dentro e fuori a riunirsi in un pranzo sociale domenica nove novembre 2025 a Milano Marittima. Chi desiderasse unirsi alla ciurma nobilmente riunita ci contatti con un messaggio privato per ricevere con un pappagallo viaggiatore informazioni dettagliate…e non dimenticate l’alta uniforme.\nHasta la Pasta Siempre!\nR A M E N \n#messageinabottle #pranzosociale #pappagalloviaggiatore #spaghetti #ramen #arrr #chiesapastafarianaitaliana #pirateking #prodigiosospaghettovolante #cpi #flyingspaghettimonster #pastafarianesimo #romanpolanski #pirates #piratesdirectedbyromanpolanski #pastafarianisme #fsm #pastafarianism #thefsmchurch #librosacrodelprodigiosospaghettovolante #bobbyhenderson #tegliologia #religione #lgbtqia+ #religion #thegospeloftheflyingspaghettimonster \n  \nVeleggia fino ai link ai post sui social: Facebook \, Instagram \, TikTok
URL:https://osservatore.pastafariano.org/arrembaggio/12503/
LOCATION:Hotel Ambra\, Viale Luigi Cadorna\, 14\, 48015\, Milano Marittima RA\, Italy
CATEGORIES:eventi pastafariani Emilia-Romagna
ATTACH;FMTTYPE=image/jpeg:https://osservatore.pastafariano.org/ahrr/wp-content/uploads/2025/11/WhatsApp-Image-2025-11-04-at-21.01.49.jpeg
END:VEVENT
END:VCALENDAR