BEGIN:VCALENDAR
VERSION:2.0
PRODID:-//Osservatore Pastafariano - ECPv6.15.4//NONSGML v1.0//EN
CALSCALE:GREGORIAN
METHOD:PUBLISH
X-ORIGINAL-URL:https://osservatore.pastafariano.org
X-WR-CALDESC:Eventi per Osservatore Pastafariano
REFRESH-INTERVAL;VALUE=DURATION:PT1H
X-Robots-Tag:noindex
X-PUBLISHED-TTL:PT1H
BEGIN:VTIMEZONE
TZID:Europe/Rome
BEGIN:DAYLIGHT
TZOFFSETFROM:+0100
TZOFFSETTO:+0200
TZNAME:CEST
DTSTART:20250330T010000
END:DAYLIGHT
BEGIN:STANDARD
TZOFFSETFROM:+0200
TZOFFSETTO:+0100
TZNAME:CET
DTSTART:20251026T010000
END:STANDARD
END:VTIMEZONE
BEGIN:VEVENT
DTSTART;TZID=Europe/Rome:20250608T180000
DTEND;TZID=Europe/Rome:20250608T230000
DTSTAMP:20260424T200144
CREATED:20250609T101712Z
LAST-MODIFIED:20250609T101712Z
UID:11999-1749405600-1749423600@osservatore.pastafariano.org
SUMMARY:Teglie di preghiera (e non solo) della Pannocchia di Bologna
DESCRIPTION:Che tu sia semplicemente pastacuriosə o navigatə piratə\, unisciti alla Chiesa Pastafariana Italiana in occasione delle TEGLIE DI PREGHIERA della Antica ed Autentica Pannocchia di Bologna.\nChiacchiere\, cibo\, birra\, organizzazione pannocchiale\, piratə ma soprattutto bella gente!!\n\n\n\n\n\n\n  \nLeggi uno degli ultimi eventi su Instagram (e magari segui la pagina IG della CPI!): come vedi l’estasi ci ha travolto e non è rimasto molto. \n  \n  \nL’ultimo prima dell’estate si è svolto ieri: APERITEGLIA in modalità condivisione nel parco dei Giradini della Cà Bura. Nel corso della serata abbiamo avuto anche il pastezzo della frittella Broccola a’ pastiedda: benbevuta nella millenaria Chiesa Pastafariana! \nMa non finisce qui\, altri arrembaggi ci aspettano: la marcia per la pace a Gaza il 15 giugno\, il Pride di Bologna il 28 giugno\, il Festival dei Pirati al Lago d’Orta il 2 e 3 agosto\, … e da settembre riprenderanno i Beverdì Unti\, il Raduno\, il Cotechismo\, …: batti un colpo col tuo uncino ed unisciti a noi! \nSTAY TUNED! (mailto:bologna at chiesapastafariana.it) \n  \n#beverdì #bologna #bononia #pannocchiapastafarianadibologna #chiesapastafarianaitaliana #flyingspaghettimonster #pastafarianesimo #fsm #pastafarianism #thefsmchurch #prodigiosospaghettovolante #cpi
URL:https://osservatore.pastafariano.org/arrembaggio/teglie-e-non-solo-pannocchia-di-bologna/
CATEGORIES:eventi pastafariani Emilia-Romagna
ATTACH;FMTTYPE=image/jpeg:https://osservatore.pastafariano.org/ahrr/wp-content/uploads/2025/06/aperiteglia-scaled.jpg
END:VEVENT
END:VCALENDAR