BEGIN:VCALENDAR
VERSION:2.0
PRODID:-//Osservatore Pastafariano - ECPv6.15.4//NONSGML v1.0//EN
CALSCALE:GREGORIAN
METHOD:PUBLISH
X-ORIGINAL-URL:https://osservatore.pastafariano.org
X-WR-CALDESC:Eventi per Osservatore Pastafariano
REFRESH-INTERVAL;VALUE=DURATION:PT1H
X-Robots-Tag:noindex
X-PUBLISHED-TTL:PT1H
BEGIN:VTIMEZONE
TZID:Europe/Rome
BEGIN:DAYLIGHT
TZOFFSETFROM:+0100
TZOFFSETTO:+0200
TZNAME:CEST
DTSTART:20200329T010000
END:DAYLIGHT
BEGIN:STANDARD
TZOFFSETFROM:+0200
TZOFFSETTO:+0100
TZNAME:CET
DTSTART:20201025T010000
END:STANDARD
END:VTIMEZONE
BEGIN:VEVENT
DTSTART;TZID=Europe/Rome:20200711T173000
DTEND;TZID=Europe/Rome:20200711T200000
DTSTAMP:20260425T194103
CREATED:20200711T082701Z
LAST-MODIFIED:20200711T083203Z
UID:6866-1594488600-1594497600@osservatore.pastafariano.org
SUMMARY:Black & Rainbow Lives Matter - Arrembiamo Rimini contro ogni discriminazione!
DESCRIPTION:Dicono che la proposta di legge Zan discrimini la loro fondamentale libertà di discriminare. \nAnzi no\, dicono che discrimina le persone LGBT\, di colore\, persino le donne\, perché le confina in zone di “protezione speciale”\, mentre in realtà dovremmo essere persone uguali di fronte alla legge e quindi via\, tutta la Legge Mancino e simili nel bidone dell’indifferenziato. \n…e poi quelli che eccedono con i Sacri Spiriti saremmo noi Pastafariani??? \n\nDomani cerchiamo di chiarire le idee su cosa sia realmente la discriminazione arrembando fragorosamente. \nNel nome delle vere vittime di discriminazione razziale\, di genere\, omobitransnegativa…Pirati\, sbigottiamoli! AHRRR!!! \n 
URL:https://osservatore.pastafariano.org/arrembaggio/black-rainbow-lives-matters-arrembaggio-contro-ogni-discriminazione/
LOCATION:Parco Fellini Rimini\, via Saint Maur de Fosses\,\, Rimini\, RN\, 47921\, Italia
CATEGORIES:eventi pastafariani Emilia-Romagna
ATTACH;FMTTYPE=image/png:https://osservatore.pastafariano.org/ahrr/wp-content/uploads/2020/07/107904131_3030620647057361_8962629954760428709_o.jpg.png
END:VEVENT
BEGIN:VEVENT
DTSTART;TZID=Europe/Rome:20200711T180000
DTEND;TZID=Europe/Rome:20200711T193000
DTSTAMP:20260425T194104
CREATED:20200711T121955Z
LAST-MODIFIED:20200711T121955Z
UID:6876-1594490400-1594495800@osservatore.pastafariano.org
SUMMARY:Spazza l'odio - Modena
DESCRIPTION:SPAZZA L’ODIO – PER LA LEGGE CONTRO OMOTRANSFOBIA E MISOGINIA \nSabato 11 luglio alcune piazze italiane saranno occupate da chi vuole “restare libero” di discriminare e seminare odio\, opponendosi al disegno di legge contro l’omotransfobia e la misoginia.\nNoi vogliamo invece riempire il web di colori e messaggi positivi con un grande evento diffuso che coinvolga piazze virtuali e reali. \nPer questo\, sabato 11 luglio alle ore 18:00 saremo a Modena in Piazza Matteotti con un flash-mob danzante sulle note di “Born this way” di Lady Gaga: per dire NO all’odio e alle discriminazioni e per dire SI a una società più accogliente e inclusiva\, per tutt*. Nessun@ esclus@. \nDurante l’evento vi invitiamo a pubblicare su Facebook\, Instagram e Twitter una foto\, un piccolo video\, un tuo contributo che ci aiuti a “spazzare l’odio” da questo Paese utilizzando gli hashtag\n#spazzalodio\n#davocealrispetto. \nPer sapere quali altre piazze italiane partecipano alla mobilitazione nazionale:\nhttps://www.facebook.com/events/273166770800778 \nAderiscono all’iniziativa:\n– Arcigay Modena Matthew Shepard\n– Gruppo Donne Arcigay Modena Matthew Shepard\n– MoReGay\n– Gruppo Trans\n– Gruppo Genitori AGEDO Modena\n– Unione Universitaria – UDU Modena e Reggio Emilia\n– Pannocchia Balsamica di Modena della Chiesa Pastafariana Italiana \n  \nLink all’evento Facebook: https://www.facebook.com/events/298806244807928/
URL:https://osservatore.pastafariano.org/arrembaggio/spazza-lodio-modena/
LOCATION:Modena\, Piazza Matteotti\, Piazza Giacomo Matteotti\, Modena\, Italia
CATEGORIES:eventi pastafariani Emilia-Romagna
ATTACH;FMTTYPE=image/jpeg:https://osservatore.pastafariano.org/ahrr/wp-content/uploads/2020/07/spazzalodio.jpg
END:VEVENT
BEGIN:VEVENT
DTSTART;TZID=Europe/Rome:20200718T170000
DTEND;TZID=Europe/Rome:20200718T180000
DTSTAMP:20260425T194104
CREATED:20200709T114323Z
LAST-MODIFIED:20201109T201539Z
UID:6812-1595091600-1595095200@osservatore.pastafariano.org
SUMMARY:Spazza l'Odio - Brescia
DESCRIPTION:La Chiesa pastafariana Italiana si attiva sempre quando ci sono i diritti della Famiglia tradizionale Pastafariana da difendere. \nSabato 11 luglio 2020 in alcune piazze italiane si ritroveranno tizi noiosi che reputano la legge contro l’omo-bi-transfobia una legge liberticida perché uccide la loro libertà di discriminare\, perseguitare\, umiliare e oltraggiare le persone appartenenti alla comunità LGBT+. \nAnche a noi pirati va di dire la nostra e non possiamo tacere di fronte a una dimostrazione di tanta sagacia\, abbiamo aderito alla campagna “Dà Voce al Rispetto”\, a sostegno della legge Zan sul contrasto alla violenza e alla discriminazione da orientamento sessuale\, genere e identità di genere\, che Sabato 11 Luglio si è data l’impegno di riempire il web di colori e messaggi positivi con un grande evento che coinvolge piazze reali e virtuali. \n \nPer noi\, infatti\, la legge contro l’omo-bi-transfobia è una legge necessaria e inderogabile: in Italia\, ogni giorno\, centinaia di persone vengono aggredite\, molestate\, villipese\, licenziate a causa del proprio orientamento sessuale o della propria identità di genere.  \nDopo attente riflessioni e preghiere siamo giuntu alla conclusione che al Prodigioso Spaghetto Volante questo non vada proprio a genio e sia ora di dire AHRRR!  \nLa ciurma bresciana\, in collaborazione con Arcigay Orlando Brescia e Brescia Pride\, non si fermerà alle piazze virtuali ma tornerà con vigore per le strade. \n \n  \nEcco COSA FAREMO (Qui l’evento Facebook): \n⏱ Ci troveremo alle 17:00 in Piazza Vittoria\, ovviamente chiediamo il massimo rispetto delle norme ancora vigenti e quindi mascherina e distanziamento sociale saranno d’obbligo. \n🧹 Vi chiediamo di PORTARE SCOPE\, SCOPETTE\, SPAZZETTONI e quant’altro la vostra fantasia vi indichi essere utile per spazzare via l’odio.  \n📜 Ma non basta\, QUESTO FLASH MOB VUOLE ESSERE FORTE\, d’impatto ed è per questo che oltre agli spazzettoni vi chiediamo di PORTARE DEI CARTELLI (anche semplici A4 possono andare bene) CON SCRITTO UN INSULTO OMOFOBO\, BIFOBICO\, TRANSFOBICO O MISOGINO. \nPERCHÉ?  \nPer due motivi. \n1️⃣ Il primo è per PRENDERE UFFICIALMENTE E CON DETERMINAZIONE LE DISTANZE dalla manifestazione che si svolgerà contemporaneamente alla nostra\, in Piazza Vittoria.  \nLa piazza dei Pride sarà infatti occupata da persone che definiscono la proposta di legge Zan “liberticida”\, perché toglierebbe loro la libertà di parola\, anche se nei fatti non è così. Vogliono solo “restare liberi” di discriminare e di diffondere stigma sociale e violenze senza pagarne le conseguenze; \n2️⃣ Secondo\, qualora l’opinione pubblica dovesse indignarsi per questi insulti\, faremo presente che gli insulti\, quegli stessi insulti\, sono quanto di meno pericoloso possa capitare. \nBrutti\, certo\, ma casi più o meno recenti\, dimostrano che l’omobitransfobia si concretizza soprattutto in percosse\, botte\, pestaggi\, discriminazioni sul posto di lavoro\, perdita della casa perché cacciati dalla famiglia\, ecc. \nUna forte indignazione per quei cartelli sarà la dimostrazione che una buona legge sull’omobitransfobia è davvero necessaria. \n⬆️ Continuando\, dopo il ritrovo\, a un segnale prestabilito\, ALZEREMO AL CIELO I NOSTRI CARTELLI\, ben visibili e a favore di camera (metteremo a disposizione carta e pennarelli per chi non fosse riuscito a portarlo da casa). Fate foto e video\, condivideteli e rendeteli virali.  \n🧹 Ad un successivo segnale APPALLOTTOLEREMO QUESTI BECERI INSULTI E LI SPAZZEREMO VIA. \nLucidate i colandri e stirate le bandane più gender che avete\, ci vediamo Sabato!! \n🏴‍☠️🏴‍☠️🏴‍☠️ AHRRRRRRRRR 🏴‍☠️🏴‍☠️🏴‍☠️
URL:https://osservatore.pastafariano.org/arrembaggio/spazza-lodio-brescia/
LOCATION:Pesaro Urbino
CATEGORIES:eventi pastafariani Lombardia
ATTACH;FMTTYPE=image/jpeg:https://osservatore.pastafariano.org/ahrr/wp-content/uploads/2020/07/CopertinaPride-scaled.jpg
END:VEVENT
END:VCALENDAR