BEGIN:VCALENDAR
VERSION:2.0
PRODID:-//Osservatore Pastafariano - ECPv6.15.4//NONSGML v1.0//EN
CALSCALE:GREGORIAN
METHOD:PUBLISH
X-WR-CALNAME:Osservatore Pastafariano
X-ORIGINAL-URL:https://osservatore.pastafariano.org
X-WR-CALDESC:Eventi per Osservatore Pastafariano
REFRESH-INTERVAL;VALUE=DURATION:PT1H
X-Robots-Tag:noindex
X-PUBLISHED-TTL:PT1H
BEGIN:VTIMEZONE
TZID:Europe/Rome
BEGIN:DAYLIGHT
TZOFFSETFROM:+0100
TZOFFSETTO:+0200
TZNAME:CEST
DTSTART:20250330T010000
END:DAYLIGHT
BEGIN:STANDARD
TZOFFSETFROM:+0200
TZOFFSETTO:+0100
TZNAME:CET
DTSTART:20251026T010000
END:STANDARD
END:VTIMEZONE
BEGIN:VEVENT
DTSTART;TZID=Europe/Rome:20250518T150000
DTEND;TZID=Europe/Rome:20250518T180000
DTSTAMP:20260424T201637
CREATED:20250515T203356Z
LAST-MODIFIED:20250515T203854Z
UID:12119-1747580400-1747591200@osservatore.pastafariano.org
SUMMARY:Pirati per l'ambiente: la ciurma pastafariana APS in azione a Trapani e Erice
DESCRIPTION:Domenica 18 maggio\, raccolta ecologica per un territorio più verde e pulito \nTrapani\, 18 maggio – La ciurma pastafariana APS\, nell’ambito del progetto “AIUTACI A DONARE UN SORRISO”\, si unisce ad alcune associazioni del territorio trapanese ed ericino per promuovere la raccolta ecologica e sensibilizzare la comunità sull’importanza di un ambiente pulito. \nL’evento\, che si terrà domenica 18 maggio\, mira a coinvolgere la popolazione locale nella raccolta di rifiuti e nella promozione di buone pratiche ambientali. \nLa ciurma pastafariana APS\, con la sua filosofia di amore\, libertà e uguaglianza\, vuole contribuire a creare un ambiente più sano e pulito per tutti. \n“Vieni e salpa nella nostra nave… pirati siamo all’arrembaggio!” è l’invito della ciurma pastafariana APS a tutti coloro che vogliono unirsi alla raccolta ecologica e contribuire a creare un ambiente più pulito e sano. \n“La nostra ciurma è felice di unirsi alle associazioni locali per promuovere la raccolta ecologica e sensibilizzare la comunità sull’importanza di un ambiente pulito”\, dichiara un rappresentante della ciurma pastafariana APS. \n“Crediamo che l’unione fa la forza e che insieme possiamo fare la differenza per il nostro territorio”. \nL’evento è aperto a tutti e si invita la popolazione locale a partecipare alla raccolta ecologica e a contribuire a creare un ambiente più pulito e sano.
URL:https://osservatore.pastafariano.org/arrembaggio/pirati-per-lambiente-la-ciurma-pastafariana-aps-in-azione-a-trapani-e-erice/
LOCATION:Difali a Valle Trapani
CATEGORIES:eventi pastafariani Sicilia
ATTACH;FMTTYPE=image/jpeg:https://osservatore.pastafariano.org/ahrr/wp-content/uploads/2025/05/IMG-20250513-WA0003.jpg
END:VEVENT
END:VCALENDAR