BEGIN:VCALENDAR
VERSION:2.0
PRODID:-//Osservatore Pastafariano - ECPv6.15.4//NONSGML v1.0//EN
CALSCALE:GREGORIAN
METHOD:PUBLISH
X-WR-CALNAME:Osservatore Pastafariano
X-ORIGINAL-URL:https://osservatore.pastafariano.org
X-WR-CALDESC:Eventi per Osservatore Pastafariano
REFRESH-INTERVAL;VALUE=DURATION:PT1H
X-Robots-Tag:noindex
X-PUBLISHED-TTL:PT1H
BEGIN:VTIMEZONE
TZID:Europe/Rome
BEGIN:DAYLIGHT
TZOFFSETFROM:+0100
TZOFFSETTO:+0200
TZNAME:CEST
DTSTART:20240331T010000
END:DAYLIGHT
BEGIN:STANDARD
TZOFFSETFROM:+0200
TZOFFSETTO:+0100
TZNAME:CET
DTSTART:20241027T010000
END:STANDARD
END:VTIMEZONE
BEGIN:VEVENT
DTSTART;TZID=Europe/Rome:20241201T090000
DTEND;TZID=Europe/Rome:20241201T130000
DTSTAMP:20260424T091913
CREATED:20241113T142819Z
LAST-MODIFIED:20241113T142819Z
UID:11485-1733043600-1733058000@osservatore.pastafariano.org
SUMMARY:[1 Dic] My Voice My Choice Ciurma Pastafariana X Cellula Coscioni di Latina
DESCRIPTION:Domenica 1 Dicembre 2024 la Ciurma Pastafariana dell’Agro Pontino sarà in piazza insieme alla Cellula Coscioni di Latina per la campagna My Voice My Choice per il diritto a un aborto sicuro e accessibile in tutta Europa. In particolare\, per garantire sostegno a chi\, ancora oggi\, vive in Paesi europei dove l’aborto è vietato o fortemente ostacolato. \nIl mancato accesso all’aborto in molte parti d’Europa provoca non solo danni fisici\, ma sottopone le singole persone e le famiglie (spesso ai margini della società e prive di mezzi) a un ingiusto disagio economico e psicologico\, che  può sfociare  in vera  e propria violenza. \nSe arriveremo ad 1 milione di firme\, la Commissione europea dovrà esprimersi formalmente sulla proposta di finanziare gli Stati membri affinché garantiscano – a chiunque in Europa – l’accesso all’interruzione volontaria di gravidanza sicuro e legale. \nQuindi se vuoi firmare anche tu (e non vuoi/puoi farlo online) ci troveremo in Piazza del Popolo di Latina con uno stand durante il Mercatino mensile dell’Antiquariato!
URL:https://osservatore.pastafariano.org/arrembaggio/1-dic-my-voice-my-choice-ciurma-pastafariana-x-cellula-coscioni-di-latina/
LOCATION:Latina\, Piazza Del Popolo\, Via Diaz( fronte Feltrinelli)\, Latina\, 04100\, Italia
CATEGORIES:eventi pastafariani Lazio
ATTACH;FMTTYPE=image/png:https://osservatore.pastafariano.org/ahrr/wp-content/uploads/2024/11/domenica-1-dicembre-e1731507940288.png
END:VEVENT
BEGIN:VEVENT
DTSTART;TZID=Europe/Rome:20241207T143000
DTEND;TZID=Europe/Rome:20241207T170000
DTSTAMP:20260424T091913
CREATED:20241204T083617Z
LAST-MODIFIED:20241204T090046Z
UID:11597-1733581800-1733590800@osservatore.pastafariano.org
SUMMARY:NO DDL SICUREZZA - Manifestazione a Brescia 07/12/2024
DESCRIPTION:Il ddl “sicurezza” mette a rischio la libertà di espressione di ciascuno e la Ciurma Pastafariana non può tollerarlo: è ancora vivo in noi il ricordo di quando ə Piratə erano emarginati dalla società. Per questo motivo ci chiediamo: CFUP?  \nOvvero\, Cosa Farebbe Un Pirata? Facciamo sentire la nostra voce sabato 7 dicembre affinché:  \n– le nostre navi possano veleggiare ovunque\, salvare naufraghi e ormeggiarsi in ogni porto  \n– ə Piratə possano lamentarsi del rancio delle galere e ribellarsi ai giri di chiglia  \n– qualora fossimo costretti sulla terraferma\, poterci ammutinare e invadere le strade in attesa di poter riprendere il mare \nPer difendere la nostra libertà la ciurma Bresciana partecipa alla manifestazione indetta da ASSEMBLEA NO DDL SICUREZZA – BRESCIA\, organizzata per sabato 7 dicembre 2024. \nIl concentramento sarà in Piazzale Cesare Battisti (Zona Metro) alle ore 14.30. \nAHRRRREMBATE CON NOI!!!!!
URL:https://osservatore.pastafariano.org/arrembaggio/no-ddl-sicurezza-manifestazione-a-brescia-07-12-2024/
LOCATION:Piazzale Cesare Battisti\, Piazzale Cesare Battisti\, Brescia\, Italy
ATTACH;FMTTYPE=image/jpeg:https://osservatore.pastafariano.org/ahrr/wp-content/uploads/2024/12/copertina-OP.jpg
END:VEVENT
BEGIN:VEVENT
DTSTART;TZID=Europe/Rome:20241212T193000
DTEND;TZID=Europe/Rome:20241212T220000
DTSTAMP:20260424T091913
CREATED:20241205T075519Z
LAST-MODIFIED:20241205T075519Z
UID:11595-1734031800-1734040800@osservatore.pastafariano.org
SUMMARY:Serata LIBERI VERSO IL VULCANO e DAT a Cremona
DESCRIPTION:Per ogni creatura del Prodigioso Spaghetto Volante arriverà il momento di levare le ancore e intraprendere l’ultimo viaggio verso il Vulcano. \nIl PSV ci ha lasciati liberi di fare della nostra vita ciò che pensiamo sia meglio\, preferibilmente senza ingerenze nelle scelte di vita altrui. \nEd è per questo che è fondamentale decidere oggi per domani nell’eventualità in cui saremo troppo ubriachi per scegliere consapevolmente. \nMa come? \nLa Ciurma Pastafariana di Brescia in collaborazione con la Cellula Coscioni di Brescia e Cremona\, ospiti del circolo ARCIpelago di Cremona\, organizza la prima di tre serate a tema fine vita. \nVi aspettiamo il 12 dicembre alle 19.30 a Cremona\, in via Via Speciano 4\, per parlare di Disposizioni Anticipate di Trattamento. \n 
URL:https://osservatore.pastafariano.org/arrembaggio/serata-lviv-a-cremona/
LOCATION:Circolo Arcipelago\, Via Speciano\, 4\, Cremona\, Italy
ATTACH;FMTTYPE=image/jpeg:https://osservatore.pastafariano.org/ahrr/wp-content/uploads/2024/12/Copertina.jpg
END:VEVENT
BEGIN:VEVENT
DTSTART;TZID=Europe/Rome:20241213T200000
DTEND;TZID=Europe/Rome:20241213T230000
DTSTAMP:20260424T091913
CREATED:20241212T151145Z
LAST-MODIFIED:20241212T151145Z
UID:11644-1734120000-1734130800@osservatore.pastafariano.org
SUMMARY:[13 Dic] Beverdì Unto e Alberaggio nell'Agro Pontino
DESCRIPTION:Aaaaarrrrhhhh Pirati! \nQuesto venerdì a Latina avremo il consueto appuntamento mensile con il Beverdì Unto! \nCi vediamo alle ore 20 da Basta Poco in centro! \nMa non è finita qui!!! \nAlle ore 22 vi sarà il tradizionale Alberaggio con affissione del Liscafisso sull’albero di Natale di Piazza del Popolo! Tradizione che va avanti in quel di Latina da secoli e secoli! \nVi aspettiamo! \nx info o prenotazioni contattateci
URL:https://osservatore.pastafariano.org/arrembaggio/13-dic-beverdi-unto-e-alberaggio-nellagro-pontino/
LOCATION:Latina\, Piazza Del Popolo\, Via Diaz( fronte Feltrinelli)\, Latina\, 04100\, Italia
CATEGORIES:eventi pastafariani Lazio
ATTACH;FMTTYPE=image/png:https://osservatore.pastafariano.org/ahrr/wp-content/uploads/2024/12/Progetto-senza-titolo.png
END:VEVENT
END:VCALENDAR