BEGIN:VCALENDAR
VERSION:2.0
PRODID:-//Osservatore Pastafariano - ECPv6.15.4//NONSGML v1.0//EN
CALSCALE:GREGORIAN
METHOD:PUBLISH
X-ORIGINAL-URL:https://osservatore.pastafariano.org
X-WR-CALDESC:Eventi per Osservatore Pastafariano
REFRESH-INTERVAL;VALUE=DURATION:PT1H
X-Robots-Tag:noindex
X-PUBLISHED-TTL:PT1H
BEGIN:VTIMEZONE
TZID:Europe/Rome
BEGIN:DAYLIGHT
TZOFFSETFROM:+0100
TZOFFSETTO:+0200
TZNAME:CEST
DTSTART:20180325T010000
END:DAYLIGHT
BEGIN:STANDARD
TZOFFSETFROM:+0200
TZOFFSETTO:+0100
TZNAME:CET
DTSTART:20181028T010000
END:STANDARD
END:VTIMEZONE
BEGIN:VEVENT
DTSTART;TZID=Europe/Rome:20180428T100000
DTEND;TZID=Europe/Rome:20180501T230000
DTSTAMP:20260420T060916
CREATED:20180413T225238Z
LAST-MODIFIED:20200313T235351Z
UID:5509-1524909600-1525215600@osservatore.pastafariano.org
SUMMARY:Ammmore Pastafariano al Comicon di Napoli
DESCRIPTION:Dal 28 aprile al 1 maggio a Napoli\, all’interno del Comicon presso la Mostra d’Oltremare\, si sono svolte le Giornate dell’Ammmore Pastafariano. Lo stand della Chiesa Pastafariana Italiana era contrassegnato da un cuore rosso con scolapasta. \nIl Comicon ha ospitato la ciurma dei pirati che rendono culto al Prodigioso Spaghetto Volante perché questi hanno scelto il fumetto e l’illustrazione come mezzo comunicativo elettivo. Non a caso\, dunque\, proprio un fantastico fumetto suggerisce come e perché diventare pastafariani: Il Tocco dello Spaghetto\, edito da Beccogiallo (disponibile al saccheggio qui). \nAncora hai letto il fumetto più prodigioso che si sia mai visto? Clicca la copertina e saccheggiane una copia!\nLo stand è stato allestito come una piccola galleria d’arte\, ma è stato vissuto quale luogo di culto. I curiosi e i visitatori interessati sono stati accolti in spirito\, con la guida degli Otto Condimenti. \nPappessa Scialatiella Piccante I\, Scardinali\, Ministri di culto e pirati si sono alternati allo stand\, felici di rispondere alle domande dei visitatori\, di lasciare un ricordo delle splendide illustrazioni e di celebrare riti di pastezzo\, pastrimonio\, enorcismo e pennedizione. \nIl nostro piratesco banchetto\, carico carico d’Ammmore!\nCosa sono le Giornate dell’Ammmore Pastafariano? Cos’è l’Ammmore Pastafariano? L’Ammore Pastafariano è passione\, sentimento\, pratica quotidiana: sentimenti e pensieri che riconoscono infinite ricette. Le illustrazioni e le vignette in mostra hanno appunto raccontato le avventure spirituali di una religione originale\, divertente\, coraggiosa\, che tutela la dimensione privata del sacro\, ma promuove la laicità nella sfera pubblica. \nOltre agli Otto Condimenti illustrati da Duckbill (la selezione dei disegni è tratta dal Tocco dello Spaghetto)\, le tavole che narrano i contenuti della fede pastafariana sono state realizzate da Laura Monticelli: le tematiche sono diverse\, tutte contraddistinte dall’ammmore per la libertà di scelta. Si rappresenta la famiglia tradizionale pastafariana\, si chiede garanzia di applicazione della legge 194\, si chiede la libertà dagli stereotipi di genere\, si chiede “frittellanza” e vera integrazione culturale. Soprattutto si parla di laicità. \nIn occasione del Comicon la Chiesa Pastafariana Italiana ha presentato due eccezionali inediti. \nPer Liberi verso il Vulcano\, la campagna attraverso cui sono pianificate attività di divulgazione sul biotestamento e sull’eutanasia legale\, Duckbill ha realizzato in esclusiva una serie illustrata con un tributo a Marco Cappato. L’anteprima è da considerarsi una bozza di progetto che la Chiesa Pastafariana intende sviluppare con le organizzazioni amiche\, da sempre affiancate in questa battaglia. \nDietro al nostro simbolo sacro\, il Liscafisso\, si erge l’anteprima esclusiva del fumetto di Duckbill dedicato alla campagna Liberi Verso il Vulcano\, per i diritti di fine vita.Promettiamo che rivedrete queste tavole presto!\nIl secondo inedito presentato in anteprima è firmato da Pierz. Con Un Porco in Pretura (leggilo e scaricalo in esclusiva dall’Osservatore Pastafariano)\, l’artista aderisce a Dioscotto\, la campagna nazionale con la quale i pirati chiedono l’abolizione delle leggi contro la blasfemia in Italia e nel mondo. Il pdf del fumetto è scaricabile gratuitamente dal sito web della chiesa. La campagna Dioscotto\, che ha attirato svariati media grazie ai manifesti di Hogre affissi in quartiere San Lorenzo a Roma\, ha animato la giornata inaugurale con lo spettacolo di Daniele Fabbri che si è esibito al Kestè con Il timido Anticristo. \nL’intera striscia “Un Porco in Pretura” di Pierz è già stata pubblicata sulle pagine dell’Osservatore Pastafariano! Mica te l’eri persa? Clicca sull’immagine\, che aspetti?\nLe Giornate dell’Ammmore Pastafariano possono ripetersi in qualsiasi momento dell’anno e in qualsiasi città. Tutto il materiale prodotto è a disposizione delle pannocchie che ne facciano richiesta\, per riproporre la manifestazione presso proprie sedi.
URL:https://osservatore.pastafariano.org/arrembaggio/ammmore-pastafariano-al-comicon-di-napoli/
LOCATION:comicon\, John Fitzgerald Kennedy\, 54\, napoli\, napoli\, 80125\, Italia
CATEGORIES:eventi pastafariani Campania,eventi pastafariani di rilevanza nazionale
ATTACH;FMTTYPE=image/png:https://osservatore.pastafariano.org/ahrr/wp-content/uploads/2018/05/Giornata-dellAmmmore-Logo-e1525687925764-1.png
END:VEVENT
BEGIN:VEVENT
DTSTART;TZID=Europe/Rome:20180428T210000
DTEND;TZID=Europe/Rome:20180429T040000
DTSTAMP:20260420T060916
CREATED:20200510T105751Z
LAST-MODIFIED:20200510T105751Z
UID:6063-1524949200-1524974400@osservatore.pastafariano.org
SUMMARY:Fuori dal letaahrrgo - Beverdì di Primavera
DESCRIPTION:RAmen confrittelli! Siamo in piena primavera ed è tempo di uscire dal letaahrrgo invernale: sabato 28 ci diamo appuntamento al SIDRO CLUB a Savignano per una intensa serata di preghiera!\nCome disse Cesare varcando il Rubicone “Alea Birra Est” (il dado è birra) a significare che il nostro destino è nelle mani del Prodigioso\, ebbro di Sacra Bevanda.\nSalutiamo allora l’arrivo della primavera alzando a Lui i nostri boccali gridando BIRRELUJA! Che il Prodigioso unga il nostro cammino!
URL:https://osservatore.pastafariano.org/arrembaggio/fuori-dal-letaahrrgo-beverdi-di-primavera/
LOCATION:SIDRO CLUB\, via a moroni 92\, Savignano sul Rubicone\, RN\, 47039\, Italia
CATEGORIES:eventi pastafariani Emilia-Romagna
ATTACH;FMTTYPE=image/jpeg:https://osservatore.pastafariano.org/ahrr/wp-content/uploads/2020/05/letar.jpg
END:VEVENT
END:VCALENDAR