BEGIN:VCALENDAR
VERSION:2.0
PRODID:-//Osservatore Pastafariano - ECPv6.15.4//NONSGML v1.0//EN
CALSCALE:GREGORIAN
METHOD:PUBLISH
X-ORIGINAL-URL:https://osservatore.pastafariano.org
X-WR-CALDESC:Eventi per Osservatore Pastafariano
REFRESH-INTERVAL;VALUE=DURATION:PT1H
X-Robots-Tag:noindex
X-PUBLISHED-TTL:PT1H
BEGIN:VTIMEZONE
TZID:Europe/Rome
BEGIN:DAYLIGHT
TZOFFSETFROM:+0100
TZOFFSETTO:+0200
TZNAME:CEST
DTSTART:20180325T010000
END:DAYLIGHT
BEGIN:STANDARD
TZOFFSETFROM:+0200
TZOFFSETTO:+0100
TZNAME:CET
DTSTART:20181028T010000
END:STANDARD
END:VTIMEZONE
BEGIN:VEVENT
DTSTART;TZID=Europe/Rome:20180122T150000
DTEND;TZID=Europe/Rome:20180122T170000
DTSTAMP:20260420T114714
CREATED:20200802T101236Z
LAST-MODIFIED:20200802T102312Z
UID:7075-1516633200-1516640400@osservatore.pastafariano.org
SUMMARY:Convegno "Laicità e Blasfemia"
DESCRIPTION:Nell’ambito della campagna nazionale DioScotto\, che aderisce alla campagna internazionale EndBlasphemyLaws\, la Chiesa Pastafariana Italiana organizza il convegno “Laicità e Blasfemia” per indagare il rapporto tra Istituzioni pubbliche e religiose alla luce dei reati di blasfemia e vilipendio della religione. Sarà commentato il vademecum messo a punto con la consulenza dell’avvocato Raffaele Minieri. In particolare saranno considerati gli effetti di tali reati in ambito artistico e culturale. Il Convegno presenterà un focus sul caso Hogre e DoubleWhy\, sarà inoltre concluso da Daniele Fabbri\, comico e autore satirico. \nOspiti:\nAdele Orioli\, responsabile Uaar iniziative legali; avv Raffaele Minieri; Alberto Mancini\, Scardinale e Priore di Roma della Chiesa Pastafariana Italiana; Emanuela Marmo\, Pappa della Chiesa Pastafariana Italiana e studiosa di satira;\nDaniele Fabbri\, comico e autore satirico. \nSaluti di apertura: Svetlana Celli\, Consigliera Assemblea capitolina; Paolo Leccese\, Consigliere del Municipio Roma II. \n  \nVedi qui come ne hanno parlato i giornali \n  \n 
URL:https://osservatore.pastafariano.org/arrembaggio/convegno-laicita-e-blasfemia/
CATEGORIES:eventi pastafariani Lazio
ATTACH;FMTTYPE=image/jpeg:https://osservatore.pastafariano.org/ahrr/wp-content/uploads/2020/08/26219850_1160591664043789_2734669108800499168_n.jpg
END:VEVENT
END:VCALENDAR