BEGIN:VCALENDAR
VERSION:2.0
PRODID:-//Osservatore Pastafariano - ECPv6.15.4//NONSGML v1.0//EN
CALSCALE:GREGORIAN
METHOD:PUBLISH
X-ORIGINAL-URL:https://osservatore.pastafariano.org
X-WR-CALDESC:Eventi per Osservatore Pastafariano
REFRESH-INTERVAL;VALUE=DURATION:PT1H
X-Robots-Tag:noindex
X-PUBLISHED-TTL:PT1H
BEGIN:VTIMEZONE
TZID:Europe/Rome
BEGIN:DAYLIGHT
TZOFFSETFROM:+0100
TZOFFSETTO:+0200
TZNAME:CEST
DTSTART:20170326T010000
END:DAYLIGHT
BEGIN:STANDARD
TZOFFSETFROM:+0200
TZOFFSETTO:+0100
TZNAME:CET
DTSTART:20171029T010000
END:STANDARD
END:VTIMEZONE
BEGIN:VEVENT
DTSTART;TZID=Europe/Rome:20170211T130000
DTEND;TZID=Europe/Rome:20170211T160000
DTSTAMP:20260421T090355
CREATED:20200710T192426Z
LAST-MODIFIED:20200710T200654Z
UID:6829-1486818000-1486828800@osservatore.pastafariano.org
SUMMARY:Flash mob: Avellino\, Aggiungi un posto a tavola!
DESCRIPTION:I PIRATI PASTAFARIANI GRIDANO: ARRRH!\nAGGIUNGI UN POSTO A TAVOLA\nUNA TOVAGLIA PER L’INTEGRAZIONE. \nNegozianti e abitanti del centro storico di Avellino\, alla decisione del Prefetto di dare accoglienza ai profughi presso l’ex convento delle Suore stimmatine\, hanno risposto sventolando panni bianchi dai balconi in segno di resa.\nÈ triste\, molto triste che l’accoglienza dello straniero\, in particolare del richiedente asilo o del rifugiato\, sia percepito come emblema dello stato di emarginazione di una zona della città: lontana dall’essere un sintomo di degrado\, essa rappresenta invece un gesto civile\, di politica responsabile. \nI cittadini del centro storico di Avellino non devono essere lasciati soli. Ed è con questo messaggio che i PIRATI PASTAFARIANI porgono ad Avellino tutta un’invitante proposta: \nRISPONDIAMO AL MESSAGGIO DI RESA CON UN MOTO DI ALLEGRO E PROPOSITIVO INCORAGGIAMENTO: SABATO 11 FEBBRAIO\, A ORA DI PRANZO\, ESPONIAMO AI BALCONI UNA TOVAGLIA SPORCA DI SUGO. AGGIUNGIAMO UN POSTO A TAVOLA! SCATTATE UNA FOTO E CONDIVIDETELA QUI\, SU QUESTA PAGINA! \nChe cosa diciamo stendendo una tovaglia al balcone e condividendone la foto su questa pagina? Ecco le tre posate della cooperazione e della democrazia con cui imbandiamo la nostra tavola: \n1- DIALOGO: che le autorità e le Istituzioni competenti si siedano al tavolo della concertazione e della programmazione; che ragionino\, si confrontino\, decidano\, attuando pratiche civili e razionali nella creazione e gestione dei centri di accoglienza. Fallisce nel degrado politico e morale un luogo che non è capace di pianificare soluzioni ai problemi del mondo con cui entra in contatto. \n2- VICINANZA: sediamoci a tavola con gli avellinesi! Farlo significa condividere\, restare accanto\, conoscersi. È quello che dobbiamo fare con i cittadini del centro storico che raccontano la loro solitudine\, urbana e sociale. \n3 – INTEGRAZIONE: “fare posto a tavola” significa ricordare che la storia è una ruota che gira\, significa organizzare le risorse\, ma anche incontrare\, dare ristoro e ascolto. A tavola ricordiamo che il Mediterraneo non è solo un bacino di conflitti\, ma culla di popoli accomunati dal valore sacro dell’ospitalità. \nSABATO 11 FEBBRAIO\, A ORA DI PRANZO\, STENDENDO DAI BALCONI UNA TOVAGLIA SPORCA DI SUGO DIRETE AL CENTRO STORICO DI AVELLINO CHE ESSO È ANCORA UN LUOGO DOVE FARE FESTA E DOVE SCRIVERE LA STORIA CIVILE DELLA CITTÀ. \n  \n  \nVedi qui come ne hanno parlato i giornali \n  \n  \n 
URL:https://osservatore.pastafariano.org/arrembaggio/flash-mob-avellino-aggiungi-un-posto-a-tavola/
CATEGORIES:eventi pastafariani Lazio
ATTACH;FMTTYPE=image/jpeg:https://osservatore.pastafariano.org/ahrr/wp-content/uploads/2020/07/16587374_10212234183239200_4614575520752051242_o-scaled.jpg
END:VEVENT
END:VCALENDAR