BEGIN:VCALENDAR
VERSION:2.0
PRODID:-//Osservatore Pastafariano - ECPv6.15.4//NONSGML v1.0//EN
CALSCALE:GREGORIAN
METHOD:PUBLISH
X-ORIGINAL-URL:https://osservatore.pastafariano.org
X-WR-CALDESC:Eventi per Osservatore Pastafariano
REFRESH-INTERVAL;VALUE=DURATION:PT1H
X-Robots-Tag:noindex
X-PUBLISHED-TTL:PT1H
BEGIN:VTIMEZONE
TZID:Europe/Rome
BEGIN:DAYLIGHT
TZOFFSETFROM:+0100
TZOFFSETTO:+0200
TZNAME:CEST
DTSTART:20170326T010000
END:DAYLIGHT
BEGIN:STANDARD
TZOFFSETFROM:+0200
TZOFFSETTO:+0100
TZNAME:CET
DTSTART:20171029T010000
END:STANDARD
END:VTIMEZONE
BEGIN:VEVENT
DTSTART;TZID=Europe/Rome:20170130T203000
DTEND;TZID=Europe/Rome:20170131T000000
DTSTAMP:20260421T111212
CREATED:20200708T094141Z
LAST-MODIFIED:20200708T132314Z
UID:6774-1485808200-1485820800@osservatore.pastafariano.org
SUMMARY:ICARO LAICO. Rispetto per Tutte e Tutti
DESCRIPTION:Purtroppo il 2017 della città di Forlì inizia all’insegna di un ennesimo tentativo di contaminazione ideologica e religiosa messa in atto ancora una volta in una location pubblica che invece per definizione dovrebbe farsi primo sinonimo di laicità. \nUna serie di interventi vede protagonisti alcuni tra i principali fomentatori di uno dei più grandi allarmismi fatti sulla pelle della comunità lgbtqi (Lesbian\, Gay\, Bisexual\, Transgender\, Queer\, Intersexual Community)\, perpetuando il sequel che ha già visto protagonista l’anacronistica presentazione di Mario Adinolfi nel 2015 all’interno della stessa controversa sede\, la mistificazione continua ad inquinare le sedi della trasmissione del sapere\, della scienza e della cultura. \nSono stati infatti organizzati presso la sala Icaro del Liceo Classico “G. B. Morgagni” una serie di incontri in risposta alla fantomatica “diffusione della teoria del gender nelle scuole e in ogni ambito culturale” . Di seguito le citazione di due dei relatori. \n“Meglio che gay\, lesbiche e transessuali tornino “nell’armadio”. Indietro nel tempo e nello spazio: nascosti come sessant’anni fa. L’omosessualità non è una variante naturale del comportamento umano\, come afferma l’Organizzazione Mondiale della Sanità\, ma un “disagio identitario” che va corretto dall’educatore che deve spingere il gay verso l’eterosessualità”\nMario Gandolfini \n“ […] Se una donna lesbica o un uomo omosessuale\, hanno delle difficoltà ad identificarsi con la figura femminile o maschile\, come potranno trasmettere ai figli tali modelli comportamentali? [..] C’è molta differenza fra questo comportamento e gli episodi di violenza psicologica che subiscono i bambini quotidianamente in famiglie con degrado sociale?”\nGiovanni Bonini \nIl ciclo di incontri che si nasconde dietro ad una falsa educazione al rispetto delle differenze di genere è promosso da:\n-CONSULTA DEGLI ORGANISMI SOCIO-ASSISTENZIALI: organismo Pastorale della CEI -CONSULTA DELLE AGGREGAZIONI LAICALI (CNAL): promossa dalla Conferenza Episcopale Italiana (CEI)\n-UFFICIO PER LA PASTORALE DELLA FAMIGLIA DELLA DIOCESI DI FORLÌ- BERTINORO\n-CENTRO DIOCESANO DI PASTORALE GIOVANILE -CENTRO TABOR DIOCESANO\n-ASSOCIAZIONE GRUPPO DI MONTEPAOLO -CIRCOLO LA CROCE \nTale iniziativa ancora una volta intende svilire il valore della laicità delle istituzioni\, offendendo la dignità e la serenità delle cittadine e dei cittadini di Forlì. Inoltre col suo contenuto intollerante denigra migliaia di persone\, di famiglie monogenitoriali\, omogenitoriali\, allargate\, le quali – a prescindere dalle definizioni – esistono\, appartengono al tessuto sociale e contribuiscono al bene comune. Inoltre\, sotto una patina di moderazione\, questi incontri mirano al mantenimento delle disparità sociali e culturali tra generi\, le cui tragiche conseguenze spesso si traducono in episodi di violenza fisica e psicologica a discapito della donna. \nChi ha a cuore il valore della laicità dello Stato e dei luoghi in cui esso è rappresentato trova intollerabile che contesti istituzionali come la Sala Icaro\, nel plesso del Liceo Classico “G. Morgagni” e gestita dal Comune di Forlì\, ospitino incontri atti a diffondere messaggi ideologici propri di una specifica dottrina religiosa.\nInvitiamo il Comune di Forlì a porre maggiore attenzione al proprio ruolo di salvaguardia della laicità dei contesti istuzionali e ricordiamo inoltre l’impegno preso a partire dal 2016 tramite l’adesione alla Rete RE.A.DY. (Rete Nazionale delle Pubbliche Amministrazioni Anti Discriminazioni per orientamento sessuale e identità di genere) verso l’inclusione sociale delle categorie di cittadini particolarmente soggetti a discriminazione\, favorendo quindi politiche di genere\, di parità e lotta alle discriminazioni\, di contrasto a omofobia\, transfobia e bullismo. \nDal canto nostro\, ponendoci ogni giorno come traguardo la parificazione delle possibilità per ognun* e difendendo la dignità del luogo\, procederemo alla distribuzione materiale informativo cartaceo ai margini dell’incontro\, in piena coscienza del diritto di esprimere serenamente ed educatamente le posizioni dalla comunità scientifica internazionale in risposta alle consuete mistificazioni anti-scientifiche e offensive che vi avranno sede. \nFirmatar*: \nThomas Casadei – docente Universitario\nLodovico Vico Zanetti – Consigliere Comunale\nCarla Grementieri – ex docente Scuola Secondaria\nAnnalisa Crociani – docente Scuola Primaria\nCarla Lamponi – docente Scuola Secondaria\nAlice Libera Melandri – Femminista\nRaffaella Baccolini – docente Universitaria\nConsulta Laica Forlivese\nUDU – Unione degli Universitari Forlì\nCircolo UAAR Forlì-Cesena\nUn Secco No – Forlì\nIl Progresso delle Idee – Forlì\nUDI – Unione Donne in Italia Forlì\nAssociazione socio-culturale voceDonna – Castrocaro\nANPI Comitato Provinciale Forlì-Cesena\nANPI Sezione Comunale di Forlì\nArci – Forlì\nGiovani Comunisti – Forlì\nRifondazione Comunista – Forlì\nGiovani Democratici – Forlì\nRimbaud – Cesena\nArcigay Frida Byron – Ravenna\nOver the Rainbow – Lugo\nCircolo UAAR – Rimini\nArcigay Alan Turing – comitato provinciale Rimini e Forlì-Cesena Rete degli Studenti Medi di Cesena\nChiesa Pastafariana Italiana – Area Pasta Romagna\nComing Out – Rimini\nCSA Grotta Rossa – Rimini \n  \n  \nVedi qui come ne hanno parlato i giornali \n  \n  \n  \n 
URL:https://osservatore.pastafariano.org/arrembaggio/icaro-laico-rispetto-per-tutte-e-tutti/
CATEGORIES:eventi pastafariani Emilia-Romagna
ATTACH;FMTTYPE=image/jpeg:https://osservatore.pastafariano.org/ahrr/wp-content/uploads/2020/07/16177566_587329838130005_8876146051911980847_o.jpg
END:VEVENT
END:VCALENDAR