BEGIN:VCALENDAR
VERSION:2.0
PRODID:-//Osservatore Pastafariano - ECPv6.15.4//NONSGML v1.0//EN
CALSCALE:GREGORIAN
METHOD:PUBLISH
X-WR-CALNAME:Osservatore Pastafariano
X-ORIGINAL-URL:https://osservatore.pastafariano.org
X-WR-CALDESC:Eventi per Osservatore Pastafariano
REFRESH-INTERVAL;VALUE=DURATION:PT1H
X-Robots-Tag:noindex
X-PUBLISHED-TTL:PT1H
BEGIN:VTIMEZONE
TZID:Europe/Rome
BEGIN:DAYLIGHT
TZOFFSETFROM:+0100
TZOFFSETTO:+0200
TZNAME:CEST
DTSTART:20150329T010000
END:DAYLIGHT
BEGIN:STANDARD
TZOFFSETFROM:+0200
TZOFFSETTO:+0100
TZNAME:CET
DTSTART:20151025T010000
END:STANDARD
END:VTIMEZONE
BEGIN:VEVENT
DTSTART;TZID=Europe/Rome:20150604T120000
DTEND;TZID=Europe/Rome:20150607T230000
DTSTAMP:20260422T224811
CREATED:20150603T152859Z
LAST-MODIFIED:20200313T192054Z
UID:5438-1433419200-1433718000@osservatore.pastafariano.org
SUMMARY:Pastafariani al Circus Beer Lovers - Milano
DESCRIPTION:La delegazione milanese della Chiesa Pastafariana Italiana avrà l’onore di essere ospite al Circus Beer Lovers. Ci hanno accolto con cordialità e soprattutto entusiasmo\, abbiamo voglia di ripagare con uguale moneta portando a Lambrate tutto la nostra voglia di vivere e ridere. \nSaremo in fiera tutte le sere quindi non ci sono scuse: indossate il vostro scolapasta e venite a trovarci ed entrare in questa grande famiglia aperta a tutti dove l’unica intolleranza ammessa è quella al glutine. \nI Pastafariani avranno il loro stand\, ecco il programma della festa: \nCircus Beer Lovers: la birra artigianale da spettacolo allo spazio Lambretto. \nDal 4 al 7 giugno\, quattro giorni di lussuria…e i birrifici presenti sono solo l’inizio! \n  \nLe migliori birre artigianali da tutta Italia e non solo\, 350 mq dedicati al mondo dell’homebrewing\, incontri\, assaggi e corsi a libero accesso tenuti da veri birrai.  \nNon solo birra\, al Circo si può anche mangiare: street food da leccarsi i baffi con carretti siciliani\, hot dog\, hamburger\, texmex\, gelati\, granite…  \nLive on stage concerti rock e dj set con la migliore musica elettronica. Infine i prestigiatori\, performer\, gadget top per una quattro giorni di puro fermento e divertimento.  \nLo staff Serious Garage Beer\, dopo il successo delle serate milanesi all’insegna della buona birra e ottimo funk\, è pronto per il tributo alla bella stagione e il Circus allo spazio Lambretto punta a dare una casa ai beer lovers per un lungo weekend. 14 birrifici: oltre ai già noti Lambrate\, Toccalmatto\, Birrificio del Borgo\, Elav\, Croce di Malto\, Brewdog\, Kamun\, Bad Guy e tanti altri\, troveremo birre inedite sulla scena milanese come le salentine Birranova e B94.  \nIngresso gratuito e l’immancabile cassa circense per cambiare i gettoni e non doversi preoccupare di perdere il portafoglio! Si apre alle 18 del 4 giugno\, ecco il programma completo:  \nGiovedi’ 4 orario festival 18-24 Dalle ore 19 alle 22 lezioni e dibattiti su storia della birra\, tecniche di degustazione\, produzione casalinga\, abbinamenti birra cibo e altro ancora…. Live music con percussioni su fusti di birra  \nVenerdi’ 5 orario festival 12-24 Dalle ore 16 alle 22 workshop e laboratori con i birrai: i temi trattati riguarderanno la maltazione\, coltivazione del luppolo\, uso dei lieviti e aspetti pratici della produzione casalinga. Live Rock Music con Diego “Deadman” Potron\, poi dj set fino alle 24.  \nSabato 6 orario festival 12-2 Dalle ore 15 laboratorio con il birraio: produzione di birra in diretta su impianto pilota. Ore 20.45 proiezione su maxischermo della finale Europa Champions League Dalle ore 23 dj set con Leo from Ibiza e Ormeye (MagmatiQ Records).  \nDomenica 7 orario festival 12-20 Dalle ore 15 cotta collettiva con gli homebrewers Musica e dj set all day long con Marco Sala. Domenica sera gran finale con gadget e sorprese! \nQuindi: ALL’ARREMBAGGIO!!
URL:https://osservatore.pastafariano.org/arrembaggio/pastafariani-al-circus-beer-lovers-milano/
LOCATION:circus milano\, Piazza Castello\, milano\, mi\, 20121\, Italia
CATEGORIES:eventi pastafariani Lombardia
ATTACH;FMTTYPE=image/jpeg:https://osservatore.pastafariano.org/ahrr/wp-content/uploads/2020/03/logo-e1584116661575.jpg
END:VEVENT
END:VCALENDAR