BEGIN:VCALENDAR
VERSION:2.0
PRODID:-//Osservatore Pastafariano - ECPv6.15.4//NONSGML v1.0//EN
CALSCALE:GREGORIAN
METHOD:PUBLISH
X-ORIGINAL-URL:https://osservatore.pastafariano.org
X-WR-CALDESC:Eventi per Osservatore Pastafariano
REFRESH-INTERVAL;VALUE=DURATION:PT1H
X-Robots-Tag:noindex
X-PUBLISHED-TTL:PT1H
BEGIN:VTIMEZONE
TZID:Europe/Rome
BEGIN:DAYLIGHT
TZOFFSETFROM:+0100
TZOFFSETTO:+0200
TZNAME:CEST
DTSTART:20240331T010000
END:DAYLIGHT
BEGIN:STANDARD
TZOFFSETFROM:+0200
TZOFFSETTO:+0100
TZNAME:CET
DTSTART:20241027T010000
END:STANDARD
END:VTIMEZONE
BEGIN:VEVENT
DTSTART;TZID=Europe/Rome:20240622T100000
DTEND;TZID=Europe/Rome:20240622T180000
DTSTAMP:20260423T044606
CREATED:20240523T073644Z
LAST-MODIFIED:20240618T101254Z
UID:10618-1719050400-1719079200@osservatore.pastafariano.org
SUMMARY:[Sab 22 Giu] Sacher Grigliata Tridentina
DESCRIPTION:Ahrrrr\, pendagli da forca e forchetta! \nLa pannocchia di Trento vi aspetta sabato 22 giugno in tarda mattinata a Caldonazzo (località Pineta) per grigliare\, pregare e gozzovigliare assieme. \nSe vuoi portare con te una cibaria è senz’altro ben accetta! \nTi prego facci sapere che vieni così ti teniamo il posto in prima fila. Scrivi su telegram o su vuasap al numero 3473577388. \nDevi fare un lungo viaggio e cerchi una branda per la notte? Scrivici\, dannazione! \nTi aspettiamo\, ma se fai tardi noi si comincia a magnare.. Birreluja! \nATTENZIONE AL CAMBIO LOCATION!!!\nQuesta volta non alle Gorghe\, ma al parco Pineta di Caldonazzo: di fronte al ristorante “Pineta”\, di fianco al centro sportivo “Audace”. Ampio parcheggio. 50m a piedi.
URL:https://osservatore.pastafariano.org/arrembaggio/sab-22-giu-sacher-grigliata-tridentina/
LOCATION:Caldonazzo – Loc. Pineta\, Strada Provinciale 133\, Caldonazzo\, TN\, 38052\, Italia
CATEGORIES:eventi pastafariani Trentino-Alto Adige
ATTACH;FMTTYPE=image/jpeg:https://osservatore.pastafariano.org/ahrr/wp-content/uploads/2024/05/IMG-20220710-WA0037.jpg
END:VEVENT
END:VCALENDAR